[dpdk-test-report] |SUCCESS| pw64116 [PATCH] [v2] build: explicitly enable sse4 for meson builds
dpdklab at iol.unh.edu
dpdklab at iol.unh.edu
Mon Dec 23 12:37:42 CET 2019
Test-Label: iol-testing
Test-Status: SUCCESS
http://dpdk.org/patch/64116
_Testing PASS_
Submitter: Bruce Richardson <bruce.richardson at intel.com>
Date: Monday, December 23 2019 10:38:40
DPDK git baseline: Repo:dpdk
Branch: master
CommitID:2e088e6f94b773233c06440763c1be43d0d705b3
64116 --> testing pass
Test environment and result as below:
+--------------+------------------+--------------------+--------------+-------------------+----------------+
| Environment | dpdk_compile_ovs | dpdk_meson_compile | dpdk_compile | dpdk_compile_spdk | dpdk_unit_test |
+==============+==================+====================+==============+===================+================+
| Ubuntu 18.04 | PASS | PASS | PASS | PASS | PASS |
+--------------+------------------+--------------------+--------------+-------------------+----------------+
| Fedora 31 | PASS | PASS | PASS | SKIPPED | SKIPPED |
+--------------+------------------+--------------------+--------------+-------------------+----------------+
| CentOS 8 | PASS | PASS | PASS | SKIPPED | SKIPPED |
+--------------+------------------+--------------------+--------------+-------------------+----------------+
| FreeBSD 11.2 | SKIPPED | PASS | PASS | PASS | SKIPPED |
+--------------+------------------+--------------------+--------------+-------------------+----------------+
Ubuntu 18.04
Kernel: 4.15.0-generic
GCC: 7.4
Fedora 31
Kernel: 5.3.16
GCC: 9.2.1
CentOS 8
Kernel: 4.18.0.el8_0
GCC: 8.2
FreeBSD 11.2
Kernel: 11.2
GCC: 8.3
https://lab.dpdk.org/results/dashboard/patchsets/9016/
UNH-IOL DPDK Community Lab
To manage your email subscriptions visit:
https://lab.dpdk.org/results/dashboard/preferences/subscriptions/
More information about the test-report
mailing list