[dpdk-test-report] |SUCCESS| [GIT MASTER] f7b61c688965268047b5170d0df3fcb85140e356

dpdklab at iol.unh.edu dpdklab at iol.unh.edu
Wed Dec 25 01:42:50 CET 2019


_Testing PASS_

Branch: dpdk-next-net-intel

f7b61c688965268047b5170d0df3fcb85140e356 --> testing pass

Test environment and result as below:

+--------------+------------------+--------------+--------------------+-------------------+----------------+
| Environment  | dpdk_compile_ovs | dpdk_compile | dpdk_meson_compile | dpdk_compile_spdk | dpdk_unit_test |
+==============+==================+==============+====================+===================+================+
| Ubuntu 18.04 | PASS             | PASS         | PASS               | PASS              | PASS           |
+--------------+------------------+--------------+--------------------+-------------------+----------------+
| Fedora 31    | PASS             | PASS         | PASS               | SKIPPED           | SKIPPED        |
+--------------+------------------+--------------+--------------------+-------------------+----------------+
| CentOS 8     | PASS             | PASS         | PASS               | SKIPPED           | SKIPPED        |
+--------------+------------------+--------------+--------------------+-------------------+----------------+
| FreeBSD 11.2 | SKIPPED          | PASS         | PASS               | PASS              | SKIPPED        |
+--------------+------------------+--------------+--------------------+-------------------+----------------+

Ubuntu 18.04
	Kernel: 4.15.0-generic
	GCC: 7.4

Fedora 31
	Kernel: 5.3.16
	GCC: 9.2.1

CentOS 8
	Kernel: 4.18.0.el8_0
	GCC: 8.2

FreeBSD 11.2
	Kernel: 11.2
	GCC: 8.3

https://lab.dpdk.org/results/dashboard/tarballs/7586/

UNH-IOL DPDK Community Lab

To manage your email subscriptions visit: 
https://lab.dpdk.org/results/dashboard/preferences/subscriptions/


More information about the test-report mailing list