[dpdk-test-report] |SUCCESS| pw64132-64133 [PATCH] [v1, 1/3] drivers: introduce vDPA class

dpdklab at iol.unh.edu dpdklab at iol.unh.edu
Wed Dec 25 17:08:03 CET 2019


Test-Label: iol-testing
Test-Status: SUCCESS
http://dpdk.org/patch/64132

_Testing PASS_

Submitter: Matan Azrad <matan at mellanox.com>
Date: Wednesday, December 25 2019 15:19:19 
DPDK git baseline: Repo:dpdk-next-net-intel
  Branch: master
  CommitID:f7b61c688965268047b5170d0df3fcb85140e356

64132-64133 --> testing pass

Test environment and result as below:

+--------------+-------------------+------------------+--------------+--------------------+----------------+
| Environment  | dpdk_compile_spdk | dpdk_compile_ovs | dpdk_compile | dpdk_meson_compile | dpdk_unit_test |
+==============+===================+==================+==============+====================+================+
| Ubuntu 18.04 | PASS              | PASS             | PASS         | PASS               | PASS           |
+--------------+-------------------+------------------+--------------+--------------------+----------------+
| FreeBSD 11.2 | PASS              | SKIPPED          | PASS         | PASS               | SKIPPED        |
+--------------+-------------------+------------------+--------------+--------------------+----------------+
| Fedora 31    | SKIPPED           | PASS             | PASS         | PASS               | SKIPPED        |
+--------------+-------------------+------------------+--------------+--------------------+----------------+
| CentOS 8     | SKIPPED           | PASS             | PASS         | PASS               | SKIPPED        |
+--------------+-------------------+------------------+--------------+--------------------+----------------+

Ubuntu 18.04
	Kernel: 4.15.0-generic
	GCC: 7.4

FreeBSD 11.2
	Kernel: 11.2
	GCC: 8.3

Fedora 31
	Kernel: 5.3.16
	GCC: 9.2.1

CentOS 8
	Kernel: 4.18.0.el8_0
	GCC: 8.2

https://lab.dpdk.org/results/dashboard/patchsets/9025/

UNH-IOL DPDK Community Lab

To manage your email subscriptions visit: 
https://lab.dpdk.org/results/dashboard/preferences/subscriptions/


More information about the test-report mailing list