[dpdk-test-report] |SUCCESS| pw64146-64151 [PATCH] [v2, 1/6] raw/octeontx2_ep: add build infra and device probe
dpdklab at iol.unh.edu
dpdklab at iol.unh.edu
Fri Dec 27 14:37:50 CET 2019
Test-Label: iol-testing
Test-Status: SUCCESS
http://dpdk.org/patch/64146
_Testing PASS_
Submitter: Mahipal Challa <mchalla at marvell.com>
Date: Friday, December 27 2019 12:39:41
DPDK git baseline: Repo:dpdk
Branch: master
CommitID:2e088e6f94b773233c06440763c1be43d0d705b3
64146-64151 --> testing pass
Test environment and result as below:
+--------------+-------------------+------------------+--------------+--------------------+----------------+
| Environment | dpdk_compile_spdk | dpdk_compile_ovs | dpdk_compile | dpdk_meson_compile | dpdk_unit_test |
+==============+===================+==================+==============+====================+================+
| Ubuntu 18.04 | PASS | PASS | PASS | PASS | PASS |
+--------------+-------------------+------------------+--------------+--------------------+----------------+
| FreeBSD 11.2 | PASS | SKIPPED | PASS | PASS | SKIPPED |
+--------------+-------------------+------------------+--------------+--------------------+----------------+
| Fedora 31 | SKIPPED | PASS | PASS | PASS | SKIPPED |
+--------------+-------------------+------------------+--------------+--------------------+----------------+
| CentOS 8 | SKIPPED | PASS | PASS | PASS | SKIPPED |
+--------------+-------------------+------------------+--------------+--------------------+----------------+
Ubuntu 18.04
Kernel: 4.15.0-generic
GCC: 7.4
FreeBSD 11.2
Kernel: 11.2
GCC: 8.3
Fedora 31
Kernel: 5.3.16
GCC: 9.2.1
CentOS 8
Kernel: 4.18.0.el8_0
GCC: 8.2
https://lab.dpdk.org/results/dashboard/patchsets/9033/
UNH-IOL DPDK Community Lab
To manage your email subscriptions visit:
https://lab.dpdk.org/results/dashboard/preferences/subscriptions/
More information about the test-report
mailing list