[dpdk-test-report] |SUCCESS| pw62293 [PATCH] net/ice/base: add new device IDs

dpdklab at iol.unh.edu dpdklab at iol.unh.edu
Fri Nov 1 00:44:35 CET 2019


Test-Label: iol-compilation
Test-Status: SUCCESS
http://dpdk.org/patch/62293

_Compile Testing PASS_

Submitter: Qi Zhang <qi.z.zhang at intel.com>
Date: Thursday, October 31 2019 23:11:55 
DPDK git baseline: Repo:dpdk
  Branch: master
  CommitID:d22cd795ec9db722505e48b5e9bc5afddbeb400e

62293 --> compile testing pass

Test environment and result as below:

+--------------+-------------------+------------------+--------------+
| Environment  | dpdk_compile_spdk | dpdk_compile_ovs | dpdk_compile |
+==============+===================+==================+==============+
| FreeBSD 11.2 | PASS              |                  | PASS         |
+--------------+-------------------+------------------+--------------+
| Ubuntu 18.04 | PASS              | PASS             | PASS         |
+--------------+-------------------+------------------+--------------+
| CentOS 8     |                   | PASS             | PASS         |
+--------------+-------------------+------------------+--------------+

FreeBSD 11.2
	Kernel: 11.2
	GCC: 8.3

Ubuntu 18.04
	Kernel: 4.15.0-generic
	GCC: 7.4

CentOS 8
	Kernel: 4.18.0.el8_0
	GCC: 8.2

https://lab.dpdk.org/results/dashboard/patchsets/8271/

UNH-IOL DPDK Performance Test Lab

To manage your email subscriptions visit: 
https://lab.dpdk.org/results/dashboard/preferences/subscriptions/


More information about the test-report mailing list