[dpdk-test-report] |SUCCESS| pw62377-62379 [PATCH] [v3,	1/7] mempool: allow unaligned addr/len in populate virt
    dpdklab at iol.unh.edu 
    dpdklab at iol.unh.edu
       
    Mon Nov  4 22:41:50 CET 2019
    
    
  
Test-Label: iol-compilation
Test-Status: SUCCESS
http://dpdk.org/patch/62377
_Compile Testing PASS_
Submitter: Olivier Matz <olivier.matz at 6wind.com>
Date: Monday, November 04 2019 15:12:48 
DPDK git baseline: Repo:dpdk
  Branch: master
  CommitID:d22cd795ec9db722505e48b5e9bc5afddbeb400e
62377-62379 --> compile testing pass
Test environment and result as below:
+--------------+-------------------+--------------+------------------+
| Environment  | dpdk_compile_spdk | dpdk_compile | dpdk_compile_ovs |
+==============+===================+==============+==================+
| Ubuntu 18.04 | PASS              | PASS         | PASS             |
+--------------+-------------------+--------------+------------------+
| FreeBSD 11.2 |                   | PASS         |                  |
+--------------+-------------------+--------------+------------------+
| CentOS 8     |                   | PASS         | PASS             |
+--------------+-------------------+--------------+------------------+
Ubuntu 18.04
	Kernel: 4.15.0-generic
	GCC: 7.4
FreeBSD 11.2
	Kernel: 11.2
	GCC: 8.3
CentOS 8
	Kernel: 4.18.0.el8_0
	GCC: 8.2
https://lab.dpdk.org/results/dashboard/patchsets/8310/
UNH-IOL DPDK Performance Test Lab
To manage your email subscriptions visit: 
https://lab.dpdk.org/results/dashboard/preferences/subscriptions/
    
    
More information about the test-report
mailing list