[dpdk-test-report] |SUCCESS| pw62350 [PATCH] vhost: fix dirty page logging missing
dpdklab at iol.unh.edu
dpdklab at iol.unh.edu
Mon Nov 4 23:42:25 CET 2019
Test-Label: iol-compilation
Test-Status: SUCCESS
http://dpdk.org/patch/62350
_Compile Testing PASS_
Submitter: Marvin Liu <yong.liu at intel.com>
Date: Monday, November 04 2019 11:15:47
DPDK git baseline: Repo:dpdk
Branch: master
CommitID:d22cd795ec9db722505e48b5e9bc5afddbeb400e
62350 --> compile testing pass
Test environment and result as below:
+--------------+--------------+------------------+-------------------+
| Environment | dpdk_compile | dpdk_compile_ovs | dpdk_compile_spdk |
+==============+==============+==================+===================+
| Ubuntu 18.04 | PASS | PASS | PASS |
+--------------+--------------+------------------+-------------------+
| FreeBSD 11.2 | PASS | | |
+--------------+--------------+------------------+-------------------+
| CentOS 8 | PASS | PASS | |
+--------------+--------------+------------------+-------------------+
Ubuntu 18.04
Kernel: 4.15.0-generic
GCC: 7.4
FreeBSD 11.2
Kernel: 11.2
GCC: 8.3
CentOS 8
Kernel: 4.18.0.el8_0
GCC: 8.2
https://lab.dpdk.org/results/dashboard/patchsets/8294/
UNH-IOL DPDK Performance Test Lab
To manage your email subscriptions visit:
https://lab.dpdk.org/results/dashboard/preferences/subscriptions/
More information about the test-report
mailing list