[dpdk-test-report] |SUCCESS| pw62347 [PATCH] net/sfc: fix adapter lock usage on rule creation
dpdklab at iol.unh.edu
dpdklab at iol.unh.edu
Tue Nov 5 03:11:56 CET 2019
Test-Label: iol-compilation
Test-Status: SUCCESS
http://dpdk.org/patch/62347
_Compile Testing PASS_
Submitter: Ivan Malov <Ivan.Malov at oktetlabs.ru>
Date: Sunday, November 03 2019 10:33:09
DPDK git baseline: Repo:dpdk
Branch: master
CommitID:38383890b21f995c3dafa177298d744e1db0be84
62347 --> compile testing pass
Test environment and result as below:
+--------------+------------------+--------------+-------------------+
| Environment | dpdk_compile_ovs | dpdk_compile | dpdk_compile_spdk |
+==============+==================+==============+===================+
| Ubuntu 18.04 | PASS | PASS | PASS |
+--------------+------------------+--------------+-------------------+
| CentOS 8 | PASS | PASS | |
+--------------+------------------+--------------+-------------------+
| FreeBSD 11.2 | | PASS | |
+--------------+------------------+--------------+-------------------+
Ubuntu 18.04
Kernel: 4.15.0-generic
GCC: 7.4
CentOS 8
Kernel: 4.18.0.el8_0
GCC: 8.2
FreeBSD 11.2
Kernel: 11.2
GCC: 8.3
https://lab.dpdk.org/results/dashboard/patchsets/8291/
UNH-IOL DPDK Performance Test Lab
To manage your email subscriptions visit:
https://lab.dpdk.org/results/dashboard/preferences/subscriptions/
More information about the test-report
mailing list