[dpdk-test-report] |SUCCESS| pw62452-62453 [PATCH] [v12, 1/2] kni: add IOVA=VA mode support
dpdklab at iol.unh.edu
dpdklab at iol.unh.edu
Tue Nov 5 16:12:16 CET 2019
Test-Label: iol-compilation
Test-Status: SUCCESS
http://dpdk.org/patch/62452
_Compile Testing PASS_
Submitter: Vamsi Krishna Attunuru <vattunuru at marvell.com>
Date: Tuesday, November 05 2019 11:04:15
DPDK git baseline: Repo:dpdk
Branch: master
CommitID:38383890b21f995c3dafa177298d744e1db0be84
62452-62453 --> compile testing pass
Test environment and result as below:
+--------------+--------------+------------------+-------------------+
| Environment | dpdk_compile | dpdk_compile_ovs | dpdk_compile_spdk |
+==============+==============+==================+===================+
| FreeBSD 11.2 | PASS | | |
+--------------+--------------+------------------+-------------------+
| CentOS 8 | PASS | PASS | |
+--------------+--------------+------------------+-------------------+
| Ubuntu 18.04 | PASS | PASS | PASS |
+--------------+--------------+------------------+-------------------+
FreeBSD 11.2
Kernel: 11.2
GCC: 8.3
CentOS 8
Kernel: 4.18.0.el8_0
GCC: 8.2
Ubuntu 18.04
Kernel: 4.15.0-generic
GCC: 7.4
https://lab.dpdk.org/results/dashboard/patchsets/8336/
UNH-IOL DPDK Performance Test Lab
To manage your email subscriptions visit:
https://lab.dpdk.org/results/dashboard/preferences/subscriptions/
More information about the test-report
mailing list