[dpdk-test-report] |SUCCESS| pw62433-62434 [PATCH] [v2, 1/2] config: remove redundant dpaa2 build

dpdklab at iol.unh.edu dpdklab at iol.unh.edu
Tue Nov 5 19:26:51 CET 2019


Test-Label: iol-compilation
Test-Status: SUCCESS
http://dpdk.org/patch/62433

_Compile Testing PASS_

Submitter: Hemant Agrawal <hemant.agrawal at nxp.com>
Date: Tuesday, November 05 2019 07:59:06 
DPDK git baseline: Repo:dpdk
  Branch: master
  CommitID:38383890b21f995c3dafa177298d744e1db0be84

62433-62434 --> compile testing pass

Test environment and result as below:

+--------------+-------------------+--------------+------------------+
| Environment  | dpdk_compile_spdk | dpdk_compile | dpdk_compile_ovs |
+==============+===================+==============+==================+
| Ubuntu 18.04 | PASS              | PASS         | PASS             |
+--------------+-------------------+--------------+------------------+
| FreeBSD 11.2 |                   | PASS         |                  |
+--------------+-------------------+--------------+------------------+
| CentOS 8     |                   | PASS         | PASS             |
+--------------+-------------------+--------------+------------------+

Ubuntu 18.04
	Kernel: 4.15.0-generic
	GCC: 7.4

FreeBSD 11.2
	Kernel: 11.2
	GCC: 8.3

CentOS 8
	Kernel: 4.18.0.el8_0
	GCC: 8.2

https://lab.dpdk.org/results/dashboard/patchsets/8329/

UNH-IOL DPDK Performance Test Lab

To manage your email subscriptions visit: 
https://lab.dpdk.org/results/dashboard/preferences/subscriptions/


More information about the test-report mailing list