[dpdk-test-report] |SUCCESS| pw62496 [PATCH] crypto/dpaa2_sec: fix length retreived from hardware
dpdklab at iol.unh.edu
dpdklab at iol.unh.edu
Tue Nov 5 22:56:56 CET 2019
Test-Label: iol-compilation
Test-Status: SUCCESS
http://dpdk.org/patch/62496
_Compile Testing PASS_
Submitter: Akhil Goyal <akhil.goyal at nxp.com>
Date: Tuesday, November 05 2019 21:07:12
DPDK git baseline: Repo:dpdk
Branch: master
CommitID:38383890b21f995c3dafa177298d744e1db0be84
62496 --> compile testing pass
Test environment and result as below:
+--------------+--------------+------------------+-------------------+
| Environment | dpdk_compile | dpdk_compile_ovs | dpdk_compile_spdk |
+==============+==============+==================+===================+
| FreeBSD 11.2 | PASS | | |
+--------------+--------------+------------------+-------------------+
| CentOS 8 | PASS | PASS | |
+--------------+--------------+------------------+-------------------+
| Ubuntu 18.04 | PASS | PASS | PASS |
+--------------+--------------+------------------+-------------------+
FreeBSD 11.2
Kernel: 11.2
GCC: 8.3
CentOS 8
Kernel: 4.18.0.el8_0
GCC: 8.2
Ubuntu 18.04
Kernel: 4.15.0-generic
GCC: 7.4
https://lab.dpdk.org/results/dashboard/patchsets/8353/
UNH-IOL DPDK Performance Test Lab
To manage your email subscriptions visit:
https://lab.dpdk.org/results/dashboard/preferences/subscriptions/
More information about the test-report
mailing list