[dpdk-test-report] |SUCCESS| pw62662 [PATCH] [v2] net/enic: re-enable link status change interrupt
dpdklab at iol.unh.edu
dpdklab at iol.unh.edu
Thu Nov 7 16:28:03 CET 2019
Test-Label: iol-compilation
Test-Status: SUCCESS
http://dpdk.org/patch/62662
_Compile Testing PASS_
Submitter: Hyong Youb Kim <hyonkim at cisco.com>
Date: Thursday, November 07 2019 14:42:24
DPDK git baseline: Repo:dpdk
Branch: master
CommitID:206b89c742723209569145c95fd61954886f90f1
62662 --> compile testing pass
Test environment and result as below:
+--------------+--------------+-------------------+------------------+
| Environment | dpdk_compile | dpdk_compile_spdk | dpdk_compile_ovs |
+==============+==============+===================+==================+
| FreeBSD 11.2 | PASS | PASS | |
+--------------+--------------+-------------------+------------------+
| CentOS 8 | PASS | | PASS |
+--------------+--------------+-------------------+------------------+
| Ubuntu 18.04 | PASS | PASS | PASS |
+--------------+--------------+-------------------+------------------+
FreeBSD 11.2
Kernel: 11.2
GCC: 8.3
CentOS 8
Kernel: 4.18.0.el8_0
GCC: 8.2
Ubuntu 18.04
Kernel: 4.15.0-generic
GCC: 7.4
https://lab.dpdk.org/results/dashboard/patchsets/8418/
UNH-IOL DPDK Performance Test Lab
To manage your email subscriptions visit:
https://lab.dpdk.org/results/dashboard/preferences/subscriptions/
More information about the test-report
mailing list