[dpdk-test-report] |SUCCESS| pw62676 [PATCH] net/mlx5: fix condition to create default rule

dpdklab at iol.unh.edu dpdklab at iol.unh.edu
Thu Nov 7 16:54:18 CET 2019


Test-Label: iol-compilation
Test-Status: SUCCESS
http://dpdk.org/patch/62676

_Compile Testing PASS_

Submitter: Dekel Peled <dekelp at mellanox.com>
Date: Thursday, November 07 2019 15:04:19 
DPDK git baseline: Repo:dpdk-next-net-mlx
  Branch: master
  CommitID:078a52797b367bf247de44650e5d1b366c35232f

62676 --> compile testing pass

Test environment and result as below:

+--------------+-------------------+--------------+------------------+
| Environment  | dpdk_compile_spdk | dpdk_compile | dpdk_compile_ovs |
+==============+===================+==============+==================+
| FreeBSD 11.2 | PASS              | PASS         |                  |
+--------------+-------------------+--------------+------------------+
| Ubuntu 18.04 | PASS              | PASS         | PASS             |
+--------------+-------------------+--------------+------------------+
| CentOS 8     |                   | PASS         | PASS             |
+--------------+-------------------+--------------+------------------+

FreeBSD 11.2
	Kernel: 11.2
	GCC: 8.3

Ubuntu 18.04
	Kernel: 4.15.0-generic
	GCC: 7.4

CentOS 8
	Kernel: 4.18.0.el8_0
	GCC: 8.2

https://lab.dpdk.org/results/dashboard/patchsets/8420/

UNH-IOL DPDK Performance Test Lab

To manage your email subscriptions visit: 
https://lab.dpdk.org/results/dashboard/preferences/subscriptions/


More information about the test-report mailing list