[dpdk-test-report] |SUCCESS| pw62657 [PATCH] [v2] app/test-crypto-perf: support PDCP
dpdklab at iol.unh.edu
dpdklab at iol.unh.edu
Thu Nov 7 18:41:22 CET 2019
Test-Label: iol-compilation
Test-Status: SUCCESS
http://dpdk.org/patch/62657
_Compile Testing PASS_
Submitter: Akhil Goyal <akhil.goyal at nxp.com>
Date: Thursday, November 07 2019 12:59:28
DPDK git baseline: Repo:dpdk
Branch: master
CommitID:206b89c742723209569145c95fd61954886f90f1
62657 --> compile testing pass
Test environment and result as below:
+--------------+--------------+-------------------+------------------+
| Environment | dpdk_compile | dpdk_compile_spdk | dpdk_compile_ovs |
+==============+==============+===================+==================+
| FreeBSD 11.2 | PASS | PASS | |
+--------------+--------------+-------------------+------------------+
| Ubuntu 18.04 | PASS | PASS | PASS |
+--------------+--------------+-------------------+------------------+
| CentOS 8 | PASS | | PASS |
+--------------+--------------+-------------------+------------------+
FreeBSD 11.2
Kernel: 11.2
GCC: 8.3
Ubuntu 18.04
Kernel: 4.15.0-generic
GCC: 7.4
CentOS 8
Kernel: 4.18.0.el8_0
GCC: 8.2
https://lab.dpdk.org/results/dashboard/patchsets/8413/
UNH-IOL DPDK Performance Test Lab
To manage your email subscriptions visit:
https://lab.dpdk.org/results/dashboard/preferences/subscriptions/
More information about the test-report
mailing list