[dpdk-test-report] |SUCCESS| pw62651 [PATCH] net/mlx5: allow jump to group lower than current
dpdklab at iol.unh.edu
dpdklab at iol.unh.edu
Thu Nov 7 19:29:54 CET 2019
Test-Label: iol-compilation
Test-Status: SUCCESS
http://dpdk.org/patch/62651
_Compile Testing PASS_
Submitter: Dekel Peled <dekelp at mellanox.com>
Date: Thursday, November 07 2019 11:33:35
DPDK git baseline: Repo:dpdk
Branch: master
CommitID:206b89c742723209569145c95fd61954886f90f1
62651 --> compile testing pass
Test environment and result as below:
+--------------+-------------------+------------------+--------------+
| Environment | dpdk_compile_spdk | dpdk_compile_ovs | dpdk_compile |
+==============+===================+==================+==============+
| Ubuntu 18.04 | PASS | PASS | PASS |
+--------------+-------------------+------------------+--------------+
| FreeBSD 11.2 | PASS | | PASS |
+--------------+-------------------+------------------+--------------+
| CentOS 8 | | PASS | PASS |
+--------------+-------------------+------------------+--------------+
Ubuntu 18.04
Kernel: 4.15.0-generic
GCC: 7.4
FreeBSD 11.2
Kernel: 11.2
GCC: 8.3
CentOS 8
Kernel: 4.18.0.el8_0
GCC: 8.2
https://lab.dpdk.org/results/dashboard/patchsets/8410/
UNH-IOL DPDK Performance Test Lab
To manage your email subscriptions visit:
https://lab.dpdk.org/results/dashboard/preferences/subscriptions/
More information about the test-report
mailing list