[dpdk-test-report] |SUCCESS| [GIT MASTER] ac00c96923bb02b9db7b336aa2c5fba4d563b945

dpdklab at iol.unh.edu dpdklab at iol.unh.edu
Fri Nov 8 20:28:26 CET 2019


_Compile Testing PASS_

Branch: dpdk-next-net

ac00c96923bb02b9db7b336aa2c5fba4d563b945 --> compile testing pass

Test environment and result as below:

+--------------+--------------+-------------------+------------------+
| Environment  | dpdk_compile | dpdk_compile_spdk | dpdk_compile_ovs |
+==============+==============+===================+==================+
| Ubuntu 18.04 | PASS         | PASS              | PASS             |
+--------------+--------------+-------------------+------------------+
| FreeBSD 11.2 | PASS         | PASS              |                  |
+--------------+--------------+-------------------+------------------+
| CentOS 8     | PASS         |                   | PASS             |
+--------------+--------------+-------------------+------------------+

Ubuntu 18.04
	Kernel: 4.15.0-generic
	GCC: 7.4

FreeBSD 11.2
	Kernel: 11.2
	GCC: 8.3

CentOS 8
	Kernel: 4.18.0.el8_0
	GCC: 8.2

https://lab.dpdk.org/results/dashboard/tarballs/7022/

UNH-IOL DPDK Performance Test Lab

To manage your email subscriptions visit: 
https://lab.dpdk.org/results/dashboard/preferences/subscriptions/


More information about the test-report mailing list