[dpdk-test-report] |SUCCESS| pw62809 [PATCH] net/mlx5: fix compiling without definition

dpdklab at iol.unh.edu dpdklab at iol.unh.edu
Sun Nov 10 18:27:54 CET 2019


Test-Label: iol-compilation
Test-Status: SUCCESS
http://dpdk.org/patch/62809

_Compile Testing PASS_

Submitter: Bing Zhao <bingz at mellanox.com>
Date: Sunday, November 10 2019 16:37:21 
DPDK git baseline: Repo:dpdk-next-net-mlx
  Branch: master
  CommitID:ba465d0cf8672032e0339cda7ef3a083b2d8a2af

62809 --> compile testing pass

Test environment and result as below:

+--------------+--------------+------------------+-------------------+
| Environment  | dpdk_compile | dpdk_compile_ovs | dpdk_compile_spdk |
+==============+==============+==================+===================+
| Ubuntu 18.04 | PASS         | PASS             | PASS              |
+--------------+--------------+------------------+-------------------+
| FreeBSD 11.2 | PASS         |                  | PASS              |
+--------------+--------------+------------------+-------------------+
| CentOS 8     | PASS         | PASS             |                   |
+--------------+--------------+------------------+-------------------+

Ubuntu 18.04
	Kernel: 4.15.0-generic
	GCC: 7.4

FreeBSD 11.2
	Kernel: 11.2
	GCC: 8.3

CentOS 8
	Kernel: 4.18.0.el8_0
	GCC: 8.2

https://lab.dpdk.org/results/dashboard/patchsets/8458/

UNH-IOL DPDK Performance Test Lab

To manage your email subscriptions visit: 
https://lab.dpdk.org/results/dashboard/preferences/subscriptions/


More information about the test-report mailing list