[dpdk-test-report] |SUCCESS| pw62817 [PATCH] [v2] net/ice: fix RSS rule destroy
dpdklab at iol.unh.edu
dpdklab at iol.unh.edu
Mon Nov 11 09:27:36 CET 2019
Test-Label: iol-compilation
Test-Status: SUCCESS
http://dpdk.org/patch/62817
_Compile Testing PASS_
Submitter: Simei Su <simei.su at intel.com>
Date: Monday, November 11 2019 07:55:27
DPDK git baseline: Repo:dpdk
Branch: master
CommitID:6bbc5a9236250b708c6d1931e966c74da381b4f2
62817 --> compile testing pass
Test environment and result as below:
+--------------+--------------+-------------------+------------------+
| Environment | dpdk_compile | dpdk_compile_spdk | dpdk_compile_ovs |
+==============+==============+===================+==================+
| Ubuntu 18.04 | PASS | PASS | PASS |
+--------------+--------------+-------------------+------------------+
| FreeBSD 11.2 | PASS | PASS | |
+--------------+--------------+-------------------+------------------+
| CentOS 8 | PASS | | PASS |
+--------------+--------------+-------------------+------------------+
Ubuntu 18.04
Kernel: 4.15.0-generic
GCC: 7.4
FreeBSD 11.2
Kernel: 11.2
GCC: 8.3
CentOS 8
Kernel: 4.18.0.el8_0
GCC: 8.2
https://lab.dpdk.org/results/dashboard/patchsets/8463/
UNH-IOL DPDK Performance Test Lab
To manage your email subscriptions visit:
https://lab.dpdk.org/results/dashboard/preferences/subscriptions/
More information about the test-report
mailing list