[dpdk-test-report] |SUCCESS| pw62849-62852 [PATCH] [v7, 1/3] ethdev: support API to set max LRO packet size
dpdklab at iol.unh.edu
dpdklab at iol.unh.edu
Mon Nov 11 19:27:30 CET 2019
Test-Label: iol-compilation
Test-Status: SUCCESS
http://dpdk.org/patch/62849
_Compile Testing PASS_
Submitter: Dekel Peled <dekelp at mellanox.com>
Date: Monday, November 11 2019 17:47:33
DPDK git baseline: Repo:dpdk
Branch: master
CommitID:6bbc5a9236250b708c6d1931e966c74da381b4f2
62849-62852 --> compile testing pass
Test environment and result as below:
+--------------+--------------+------------------+-------------------+
| Environment | dpdk_compile | dpdk_compile_ovs | dpdk_compile_spdk |
+==============+==============+==================+===================+
| Ubuntu 18.04 | PASS | PASS | PASS |
+--------------+--------------+------------------+-------------------+
| FreeBSD 11.2 | PASS | | PASS |
+--------------+--------------+------------------+-------------------+
| CentOS 8 | PASS | PASS | |
+--------------+--------------+------------------+-------------------+
Ubuntu 18.04
Kernel: 4.15.0-generic
GCC: 7.4
FreeBSD 11.2
Kernel: 11.2
GCC: 8.3
CentOS 8
Kernel: 4.18.0.el8_0
GCC: 8.2
https://lab.dpdk.org/results/dashboard/patchsets/8478/
UNH-IOL DPDK Performance Test Lab
To manage your email subscriptions visit:
https://lab.dpdk.org/results/dashboard/preferences/subscriptions/
More information about the test-report
mailing list