[dpdk-test-report] |SUCCESS| pw62890-62891 [PATCH] [1/2] malloc: fix realloc wrong copy size

dpdklab at iol.unh.edu dpdklab at iol.unh.edu
Tue Nov 12 16:27:29 CET 2019


Test-Label: iol-compilation
Test-Status: SUCCESS
http://dpdk.org/patch/62890

_Compile Testing PASS_

Submitter: Xueming Li <xuemingl at mellanox.com>
Date: Tuesday, November 12 2019 14:50:27 
DPDK git baseline: Repo:dpdk
  Branch: master
  CommitID:1c69df45f8c6b727c3b6a78e13f81225c090dde2

62890-62891 --> compile testing pass

Test environment and result as below:

+--------------+------------------+-------------------+--------------+
| Environment  | dpdk_compile_ovs | dpdk_compile_spdk | dpdk_compile |
+==============+==================+===================+==============+
| Ubuntu 18.04 | PASS             | PASS              | PASS         |
+--------------+------------------+-------------------+--------------+
| CentOS 8     | PASS             |                   | PASS         |
+--------------+------------------+-------------------+--------------+
| FreeBSD 11.2 |                  | PASS              | PASS         |
+--------------+------------------+-------------------+--------------+

Ubuntu 18.04
	Kernel: 4.15.0-generic
	GCC: 7.4

CentOS 8
	Kernel: 4.18.0.el8_0
	GCC: 8.2

FreeBSD 11.2
	Kernel: 11.2
	GCC: 8.3

https://lab.dpdk.org/results/dashboard/patchsets/8501/

UNH-IOL DPDK Performance Test Lab

To manage your email subscriptions visit: 
https://lab.dpdk.org/results/dashboard/preferences/subscriptions/


More information about the test-report mailing list