[dpdk-test-report] |SUCCESS| pw62913 [PATCH] [v2] net/ice: fix flow destroy issue for RSS
dpdklab at iol.unh.edu
dpdklab at iol.unh.edu
Wed Nov 13 03:42:48 CET 2019
Test-Label: iol-compilation
Test-Status: SUCCESS
http://dpdk.org/patch/62913
_Compile Testing PASS_
Submitter: Simei Su <simei.su at intel.com>
Date: Wednesday, November 13 2019 02:03:29
DPDK git baseline: Repo:dpdk-next-net-intel
Branch: master
CommitID:8102b013885cbb98b97957929ea83c8ace6ae0fc
62913 --> compile testing pass
Test environment and result as below:
+--------------+--------------+------------------+-------------------+
| Environment | dpdk_compile | dpdk_compile_ovs | dpdk_compile_spdk |
+==============+==============+==================+===================+
| FreeBSD 11.2 | PASS | | PASS |
+--------------+--------------+------------------+-------------------+
| Ubuntu 18.04 | PASS | PASS | PASS |
+--------------+--------------+------------------+-------------------+
| CentOS 8 | PASS | PASS | |
+--------------+--------------+------------------+-------------------+
FreeBSD 11.2
Kernel: 11.2
GCC: 8.3
Ubuntu 18.04
Kernel: 4.15.0-generic
GCC: 7.4
CentOS 8
Kernel: 4.18.0.el8_0
GCC: 8.2
https://lab.dpdk.org/results/dashboard/patchsets/8513/
UNH-IOL DPDK Performance Test Lab
To manage your email subscriptions visit:
https://lab.dpdk.org/results/dashboard/preferences/subscriptions/
More information about the test-report
mailing list