[dpdk-test-report] |SUCCESS| pw62957 [PATCH] af_packet: advertise offload capabilities that code already supports

dpdklab at iol.unh.edu dpdklab at iol.unh.edu
Wed Nov 13 15:27:48 CET 2019


Test-Label: iol-compilation
Test-Status: SUCCESS
http://dpdk.org/patch/62957

_Compile Testing PASS_

Submitter: Paul Atkins <paul.atkins at intl.att.com>
Date: Wednesday, November 13 2019 12:08:00 
DPDK git baseline: Repo:dpdk
  Branch: master
  CommitID:08a234788ee548796fd6b394c7e897a2bf1df1b3

62957 --> compile testing pass

Test environment and result as below:

+--------------+--------------+------------------+-------------------+
| Environment  | dpdk_compile | dpdk_compile_ovs | dpdk_compile_spdk |
+==============+==============+==================+===================+
| FreeBSD 11.2 | PASS         |                  | PASS              |
+--------------+--------------+------------------+-------------------+
| Ubuntu 18.04 | PASS         | PASS             | PASS              |
+--------------+--------------+------------------+-------------------+
| CentOS 8     | PASS         | PASS             |                   |
+--------------+--------------+------------------+-------------------+

FreeBSD 11.2
	Kernel: 11.2
	GCC: 8.3

Ubuntu 18.04
	Kernel: 4.15.0-generic
	GCC: 7.4

CentOS 8
	Kernel: 4.18.0.el8_0
	GCC: 8.2

https://lab.dpdk.org/results/dashboard/patchsets/8528/

UNH-IOL DPDK Performance Test Lab

To manage your email subscriptions visit: 
https://lab.dpdk.org/results/dashboard/preferences/subscriptions/


More information about the test-report mailing list