[dpdk-test-report] |SUCCESS| pw63018-63019 [PATCH] [1/2] mempool: use actual IOVA addresses when populating

dpdklab at iol.unh.edu dpdklab at iol.unh.edu
Thu Nov 14 22:21:40 CET 2019


Test-Label: iol-compilation
Test-Status: SUCCESS
http://dpdk.org/patch/63018

_Compile Testing PASS_

Submitter: Burakov, Anatoly <anatoly.burakov at intel.com>
Date: Thursday, November 14 2019 13:58:20 
DPDK git baseline: Repo:dpdk
  Branch: master
  CommitID:08a234788ee548796fd6b394c7e897a2bf1df1b3

63018-63019 --> compile testing pass

Test environment and result as below:

+--------------+-------------------+------------------+--------------+
| Environment  | dpdk_compile_spdk | dpdk_compile_ovs | dpdk_compile |
+==============+===================+==================+==============+
| Ubuntu 18.04 | PASS              | PASS             | PASS         |
+--------------+-------------------+------------------+--------------+
| FreeBSD 11.2 | PASS              |                  | PASS         |
+--------------+-------------------+------------------+--------------+
| CentOS 8     |                   | PASS             | PASS         |
+--------------+-------------------+------------------+--------------+

Ubuntu 18.04
	Kernel: 4.15.0-generic
	GCC: 7.4

FreeBSD 11.2
	Kernel: 11.2
	GCC: 8.3

CentOS 8
	Kernel: 4.18.0.el8_0
	GCC: 8.2

https://lab.dpdk.org/results/dashboard/patchsets/8542/

UNH-IOL DPDK Performance Test Lab

To manage your email subscriptions visit: 
https://lab.dpdk.org/results/dashboard/preferences/subscriptions/


More information about the test-report mailing list