[dpdk-test-report] |SUCCESS| pw63054-63060 [PATCH] [1/7] octeontx: update mbox definition to version 1.1.3

dpdklab at iol.unh.edu dpdklab at iol.unh.edu
Sat Nov 16 15:58:16 CET 2019


Test-Label: iol-compilation
Test-Status: SUCCESS
http://dpdk.org/patch/63054

_Compile Testing PASS_

Submitter: Pavan Nikhilesh Bhagavatula <pbhagavatula at marvell.com>
Date: Saturday, November 16 2019 14:25:12 
DPDK git baseline: Repo:dpdk
  Branch: master
  CommitID:1407b0752eee2353160701d0182c7e911ccb538a

63054-63060 --> compile testing pass

Test environment and result as below:

+--------------+-------------------+------------------+--------------+
| Environment  | dpdk_compile_spdk | dpdk_compile_ovs | dpdk_compile |
+==============+===================+==================+==============+
| Ubuntu 18.04 | PASS              | PASS             | PASS         |
+--------------+-------------------+------------------+--------------+
| FreeBSD 11.2 | PASS              |                  | PASS         |
+--------------+-------------------+------------------+--------------+
| CentOS 8     |                   | PASS             | PASS         |
+--------------+-------------------+------------------+--------------+

Ubuntu 18.04
	Kernel: 4.15.0-generic
	GCC: 7.4

FreeBSD 11.2
	Kernel: 11.2
	GCC: 8.3

CentOS 8
	Kernel: 4.18.0.el8_0
	GCC: 8.2

https://lab.dpdk.org/results/dashboard/patchsets/8568/

UNH-IOL DPDK Performance Test Lab

To manage your email subscriptions visit: 
https://lab.dpdk.org/results/dashboard/preferences/subscriptions/


More information about the test-report mailing list