[dpdk-test-report] |SUCCESS| pw63067 [PATCH] eal: check for interrupt context
dpdklab at iol.unh.edu
dpdklab at iol.unh.edu
Sun Nov 17 20:57:46 CET 2019
Test-Label: iol-compilation
Test-Status: SUCCESS
http://dpdk.org/patch/63067
_Compile Testing PASS_
Submitter: Harman Kalra <hkalra at marvell.com>
Date: Sunday, November 17 2019 19:36:11
DPDK git baseline: Repo:dpdk
Branch: master
CommitID:1407b0752eee2353160701d0182c7e911ccb538a
63067 --> compile testing pass
Test environment and result as below:
+--------------+--------------+-------------------+------------------+
| Environment | dpdk_compile | dpdk_compile_spdk | dpdk_compile_ovs |
+==============+==============+===================+==================+
| Ubuntu 18.04 | PASS | PASS | PASS |
+--------------+--------------+-------------------+------------------+
| FreeBSD 11.2 | PASS | PASS | |
+--------------+--------------+-------------------+------------------+
| CentOS 8 | PASS | | PASS |
+--------------+--------------+-------------------+------------------+
Ubuntu 18.04
Kernel: 4.15.0-generic
GCC: 7.4
FreeBSD 11.2
Kernel: 11.2
GCC: 8.3
CentOS 8
Kernel: 4.18.0.el8_0
GCC: 8.2
https://lab.dpdk.org/results/dashboard/patchsets/8573/
UNH-IOL DPDK Performance Test Lab
To manage your email subscriptions visit:
https://lab.dpdk.org/results/dashboard/preferences/subscriptions/
More information about the test-report
mailing list