[dpdk-test-report] |SUCCESS| pw63080-63085 [PATCH] [v3, 1/6] lib/eal: implement the family of rte bit operation APIs

dpdklab at iol.unh.edu dpdklab at iol.unh.edu
Mon Nov 18 13:42:51 CET 2019


Test-Label: iol-compilation
Test-Status: SUCCESS
http://dpdk.org/patch/63080

_Compile Testing PASS_

Submitter: Joyce Kong <joyce.kong at arm.com>
Date: Monday, November 18 2019 10:06:54 
DPDK git baseline: Repo:dpdk
  Branch: master
  CommitID:1407b0752eee2353160701d0182c7e911ccb538a

63080-63085 --> compile testing pass

Test environment and result as below:

+--------------+------------------+-------------------+--------------+
| Environment  | dpdk_compile_ovs | dpdk_compile_spdk | dpdk_compile |
+==============+==================+===================+==============+
| Ubuntu 18.04 | PASS             | PASS              | PASS         |
+--------------+------------------+-------------------+--------------+
| CentOS 8     | PASS             |                   | PASS         |
+--------------+------------------+-------------------+--------------+
| FreeBSD 11.2 |                  | PASS              | PASS         |
+--------------+------------------+-------------------+--------------+

Ubuntu 18.04
	Kernel: 4.15.0-generic
	GCC: 7.4

CentOS 8
	Kernel: 4.18.0.el8_0
	GCC: 8.2

FreeBSD 11.2
	Kernel: 11.2
	GCC: 8.3

https://lab.dpdk.org/results/dashboard/patchsets/8585/

UNH-IOL DPDK Performance Test Lab

To manage your email subscriptions visit: 
https://lab.dpdk.org/results/dashboard/preferences/subscriptions/


More information about the test-report mailing list