[dpdk-test-report] |SUCCESS| pw63073 [PATCH] [v3] net/ice: fix FDIR flow type conflict
dpdklab at iol.unh.edu
dpdklab at iol.unh.edu
Mon Nov 18 14:28:03 CET 2019
Test-Label: iol-compilation
Test-Status: SUCCESS
http://dpdk.org/patch/63073
_Compile Testing PASS_
Submitter: Qi Zhang <qi.z.zhang at intel.com>
Date: Monday, November 18 2019 06:34:36
DPDK git baseline: Repo:dpdk-next-net-intel
Branch: master
CommitID:b7f94fd779ffe221d224777e36484c5eec98247b
63073 --> compile testing pass
Test environment and result as below:
+--------------+--------------+-------------------+------------------+
| Environment | dpdk_compile | dpdk_compile_spdk | dpdk_compile_ovs |
+==============+==============+===================+==================+
| Ubuntu 18.04 | PASS | PASS | PASS |
+--------------+--------------+-------------------+------------------+
| FreeBSD 11.2 | PASS | PASS | |
+--------------+--------------+-------------------+------------------+
| CentOS 8 | PASS | | PASS |
+--------------+--------------+-------------------+------------------+
Ubuntu 18.04
Kernel: 4.15.0-generic
GCC: 7.4
FreeBSD 11.2
Kernel: 11.2
GCC: 8.3
CentOS 8
Kernel: 4.18.0.el8_0
GCC: 8.2
https://lab.dpdk.org/results/dashboard/patchsets/8579/
UNH-IOL DPDK Performance Test Lab
To manage your email subscriptions visit:
https://lab.dpdk.org/results/dashboard/preferences/subscriptions/
More information about the test-report
mailing list