[dpdk-test-report] |SUCCESS| pw63094 [PATCH] net/bnxt: fix Rx queue pool calculation
dpdklab at iol.unh.edu
dpdklab at iol.unh.edu
Tue Nov 19 03:01:45 CET 2019
Test-Label: iol-compilation
Test-Status: SUCCESS
http://dpdk.org/patch/63094
_Compile Testing PASS_
Submitter: Ajit Khaparde <ajit.khaparde at broadcom.com>
Date: Monday, November 18 2019 20:31:50
DPDK git baseline: Repo:dpdk-next-net-brcm
Branch: master
CommitID:5fb2bc5b78444e511b42ede496ab1d43bccc8245
63094 --> compile testing pass
Test environment and result as below:
+--------------+------------------+-------------------+--------------+
| Environment | dpdk_compile_ovs | dpdk_compile_spdk | dpdk_compile |
+==============+==================+===================+==============+
| Ubuntu 18.04 | PASS | PASS | PASS |
+--------------+------------------+-------------------+--------------+
| CentOS 8 | PASS | | PASS |
+--------------+------------------+-------------------+--------------+
| FreeBSD 11.2 | | PASS | PASS |
+--------------+------------------+-------------------+--------------+
Ubuntu 18.04
Kernel: 4.15.0-generic
GCC: 7.4
CentOS 8
Kernel: 4.18.0.el8_0
GCC: 8.2
FreeBSD 11.2
Kernel: 11.2
GCC: 8.3
https://lab.dpdk.org/results/dashboard/patchsets/8592/
UNH-IOL DPDK Performance Test Lab
To manage your email subscriptions visit:
https://lab.dpdk.org/results/dashboard/preferences/subscriptions/
More information about the test-report
mailing list