[dpdk-test-report] |SUCCESS| pw63100 [PATCH] ethdev: avoid undefined behaviour on configuration copying

dpdklab at iol.unh.edu dpdklab at iol.unh.edu
Tue Nov 19 10:12:20 CET 2019


Test-Label: iol-compilation
Test-Status: SUCCESS
http://dpdk.org/patch/63100

_Compile Testing PASS_

Submitter: Andrew Rybchenko <arybchenko at solarflare.com>
Date: Tuesday, November 19 2019 08:22:50 
DPDK git baseline: Repo:dpdk
  Branch: master
  CommitID:a0dede62a5372da0a9b67859962e64108a10b916

63100 --> compile testing pass

Test environment and result as below:

+--------------+------------------+-------------------+--------------+
| Environment  | dpdk_compile_ovs | dpdk_compile_spdk | dpdk_compile |
+==============+==================+===================+==============+
| Ubuntu 18.04 | PASS             | PASS              | PASS         |
+--------------+------------------+-------------------+--------------+
| CentOS 8     | PASS             |                   | PASS         |
+--------------+------------------+-------------------+--------------+
| FreeBSD 11.2 |                  | PASS              | PASS         |
+--------------+------------------+-------------------+--------------+

Ubuntu 18.04
	Kernel: 4.15.0-generic
	GCC: 7.4

CentOS 8
	Kernel: 4.18.0.el8_0
	GCC: 8.2

FreeBSD 11.2
	Kernel: 11.2
	GCC: 8.3

https://lab.dpdk.org/results/dashboard/patchsets/8598/

UNH-IOL DPDK Performance Test Lab

To manage your email subscriptions visit: 
https://lab.dpdk.org/results/dashboard/preferences/subscriptions/


More information about the test-report mailing list