[dpdk-test-report] |SUCCESS| [GIT MASTER] 3be76aa9294f3788b4f9c615642e6027f1b7948a
dpdklab at iol.unh.edu
dpdklab at iol.unh.edu
Wed Nov 20 00:00:16 CET 2019
_Compile Testing PASS_
Branch: dpdk
3be76aa9294f3788b4f9c615642e6027f1b7948a --> compile testing pass
Test environment and result as below:
+--------------+-------------------+--------------+------------------+
| Environment | dpdk_compile_spdk | dpdk_compile | dpdk_compile_ovs |
+==============+===================+==============+==================+
| FreeBSD 11.2 | PASS | PASS | SKIPPED |
+--------------+-------------------+--------------+------------------+
| Ubuntu 18.04 | PASS | PASS | PASS |
+--------------+-------------------+--------------+------------------+
| CentOS 8 | SKIPPED | PASS | PASS |
+--------------+-------------------+--------------+------------------+
FreeBSD 11.2
Kernel: 11.2
GCC: 8.3
Ubuntu 18.04
Kernel: 4.15.0-generic
GCC: 7.4
CentOS 8
Kernel: 4.18.0.el8_0
GCC: 8.2
https://lab.dpdk.org/results/dashboard/tarballs/7186/
UNH-IOL DPDK Performance Test Lab
To manage your email subscriptions visit:
https://lab.dpdk.org/results/dashboard/preferences/subscriptions/
More information about the test-report
mailing list