[dpdk-test-report] |SUCCESS| pw63137-63141 [PATCH] [1/5] event/octeontx2: fix TIM HW race condition
dpdklab at iol.unh.edu
dpdklab at iol.unh.edu
Wed Nov 20 12:57:00 CET 2019
Test-Label: iol-compilation
Test-Status: SUCCESS
http://dpdk.org/patch/63137
_Compile Testing PASS_
Submitter: Pavan Nikhilesh Bhagavatula <pbhagavatula at marvell.com>
Date: Wednesday, November 20 2019 04:56:21
DPDK git baseline: Repo:dpdk
Branch: master
CommitID:3be76aa9294f3788b4f9c615642e6027f1b7948a
63137-63141 --> compile testing pass
Test environment and result as below:
+--------------+--------------+-------------------+------------------+
| Environment | dpdk_compile | dpdk_compile_spdk | dpdk_compile_ovs |
+==============+==============+===================+==================+
| Ubuntu 18.04 | PASS | PASS | PASS |
+--------------+--------------+-------------------+------------------+
| FreeBSD 11.2 | PASS | PASS | SKIPPED |
+--------------+--------------+-------------------+------------------+
| CentOS 8 | PASS | SKIPPED | PASS |
+--------------+--------------+-------------------+------------------+
Ubuntu 18.04
Kernel: 4.15.0-generic
GCC: 7.4
FreeBSD 11.2
Kernel: 11.2
GCC: 8.3
CentOS 8
Kernel: 4.18.0.el8_0
GCC: 8.2
https://lab.dpdk.org/results/dashboard/patchsets/8620/
UNH-IOL DPDK Performance Test Lab
To manage your email subscriptions visit:
https://lab.dpdk.org/results/dashboard/preferences/subscriptions/
More information about the test-report
mailing list