[dpdk-test-report] |SUCCESS| pw63136-63135 [PATCH] [1/2] doc: update bnxt feature list
dpdklab at iol.unh.edu
dpdklab at iol.unh.edu
Wed Nov 20 13:12:40 CET 2019
Test-Label: iol-compilation
Test-Status: SUCCESS
http://dpdk.org/patch/63136
_Compile Testing PASS_
Submitter: Ajit Khaparde <ajit.khaparde at broadcom.com>
Date: Wednesday, November 20 2019 04:29:06
DPDK git baseline: Repo:dpdk
Branch: master
CommitID:3be76aa9294f3788b4f9c615642e6027f1b7948a
63136-63135 --> compile testing pass
Test environment and result as below:
+--------------+------------------+-------------------+--------------+
| Environment | dpdk_compile_ovs | dpdk_compile_spdk | dpdk_compile |
+==============+==================+===================+==============+
| Ubuntu 18.04 | PASS | PASS | PASS |
+--------------+------------------+-------------------+--------------+
| CentOS 8 | PASS | SKIPPED | PASS |
+--------------+------------------+-------------------+--------------+
| FreeBSD 11.2 | SKIPPED | PASS | PASS |
+--------------+------------------+-------------------+--------------+
Ubuntu 18.04
Kernel: 4.15.0-generic
GCC: 7.4
CentOS 8
Kernel: 4.18.0.el8_0
GCC: 8.2
FreeBSD 11.2
Kernel: 11.2
GCC: 8.3
https://lab.dpdk.org/results/dashboard/patchsets/8619/
UNH-IOL DPDK Performance Test Lab
To manage your email subscriptions visit:
https://lab.dpdk.org/results/dashboard/preferences/subscriptions/
More information about the test-report
mailing list