[dpdk-test-report] |SUCCESS| pw63129-63134 [PATCH] [v2,	1/6] octeontx: update mbox definition to version 1.1.3
    dpdklab at iol.unh.edu 
    dpdklab at iol.unh.edu
       
    Wed Nov 20 13:27:36 CET 2019
    
    
  
Test-Label: iol-compilation
Test-Status: SUCCESS
http://dpdk.org/patch/63129
_Compile Testing PASS_
Submitter: Pavan Nikhilesh Bhagavatula <pbhagavatula at marvell.com>
Date: Wednesday, November 20 2019 03:48:02 
DPDK git baseline: Repo:dpdk
  Branch: master
  CommitID:3be76aa9294f3788b4f9c615642e6027f1b7948a
63129-63134 --> compile testing pass
Test environment and result as below:
+--------------+-------------------+------------------+--------------+
| Environment  | dpdk_compile_spdk | dpdk_compile_ovs | dpdk_compile |
+==============+===================+==================+==============+
| Ubuntu 18.04 | PASS              | PASS             | PASS         |
+--------------+-------------------+------------------+--------------+
| FreeBSD 11.2 | PASS              | SKIPPED          | PASS         |
+--------------+-------------------+------------------+--------------+
| CentOS 8     | SKIPPED           | PASS             | PASS         |
+--------------+-------------------+------------------+--------------+
Ubuntu 18.04
	Kernel: 4.15.0-generic
	GCC: 7.4
FreeBSD 11.2
	Kernel: 11.2
	GCC: 8.3
CentOS 8
	Kernel: 4.18.0.el8_0
	GCC: 8.2
https://lab.dpdk.org/results/dashboard/patchsets/8618/
UNH-IOL DPDK Performance Test Lab
To manage your email subscriptions visit: 
https://lab.dpdk.org/results/dashboard/preferences/subscriptions/
    
    
More information about the test-report
mailing list