[dpdk-test-report] |SUCCESS| [GIT MASTER] 35558b7b07526623f1dea17cb7c6ac018cb2348e
dpdklab at iol.unh.edu
dpdklab at iol.unh.edu
Wed Nov 20 21:43:16 CET 2019
_Compile Testing PASS_
Branch: dpdk-next-net
35558b7b07526623f1dea17cb7c6ac018cb2348e --> compile testing pass
Test environment and result as below:
+--------------+----------------+---------------+--------------+---------------+
| Environment | dpdk_compile_s | dpdk_compile_ | dpdk_compile | dpdk_meson_co |
| | pdk | ovs | | mpile |
+==============+================+===============+==============+===============+
| FreeBSD 11.2 | PASS | SKIPPED | PASS | PASS |
+--------------+----------------+---------------+--------------+---------------+
| Ubuntu 18.04 | PASS | PASS | PASS | PASS |
+--------------+----------------+---------------+--------------+---------------+
| CentOS 8 | SKIPPED | PASS | PASS | PASS |
+--------------+----------------+---------------+--------------+---------------+
FreeBSD 11.2
Kernel: 11.2
GCC: 8.3
Ubuntu 18.04
Kernel: 4.15.0-generic
GCC: 7.4
CentOS 8
Kernel: 4.18.0.el8_0
GCC: 8.2
https://lab.dpdk.org/results/dashboard/tarballs/7205/
UNH-IOL DPDK Performance Test Lab
To manage your email subscriptions visit:
https://lab.dpdk.org/results/dashboard/preferences/subscriptions/
More information about the test-report
mailing list