[dpdk-test-report] |SUCCESS| [GIT MASTER] c4a75debb130bc7c2fc96759efda24b4c605ef73
dpdklab at iol.unh.edu
dpdklab at iol.unh.edu
Wed Nov 20 21:59:41 CET 2019
_Compile Testing PASS_
Branch: dpdk-next-net-brcm
c4a75debb130bc7c2fc96759efda24b4c605ef73 --> compile testing pass
Test environment and result as below:
+--------------+----------------+---------------+---------------+--------------+
| Environment | dpdk_compile_o | dpdk_compile_ | dpdk_meson_co | dpdk_compile |
| | vs | spdk | mpile | |
+==============+================+===============+===============+==============+
| Ubuntu 18.04 | PASS | PASS | PASS | PASS |
+--------------+----------------+---------------+---------------+--------------+
| CentOS 8 | PASS | SKIPPED | PASS | PASS |
+--------------+----------------+---------------+---------------+--------------+
| FreeBSD 11.2 | SKIPPED | PASS | PASS | PASS |
+--------------+----------------+---------------+---------------+--------------+
Ubuntu 18.04
Kernel: 4.15.0-generic
GCC: 7.4
CentOS 8
Kernel: 4.18.0.el8_0
GCC: 8.2
FreeBSD 11.2
Kernel: 11.2
GCC: 8.3
https://lab.dpdk.org/results/dashboard/tarballs/7206/
UNH-IOL DPDK Performance Test Lab
To manage your email subscriptions visit:
https://lab.dpdk.org/results/dashboard/preferences/subscriptions/
More information about the test-report
mailing list