[dpdk-test-report] |SUCCESS| [GIT MASTER] 1f1a9c85d5b86db17a4d9974c2be505db300fe70
dpdklab at iol.unh.edu
dpdklab at iol.unh.edu
Thu Nov 21 01:35:07 CET 2019
_Compile Testing PASS_
Branch: dpdk-next-net-intel
1f1a9c85d5b86db17a4d9974c2be505db300fe70 --> compile testing pass
Test environment and result as below:
+--------------+--------------+----------------+---------------+---------------+
| Environment | dpdk_compile | dpdk_meson_com | dpdk_compile_ | dpdk_compile_ |
| | | pile | ovs | spdk |
+==============+==============+================+===============+===============+
| Ubuntu 18.04 | PASS | PASS | PASS | PASS |
+--------------+--------------+----------------+---------------+---------------+
| FreeBSD 11.2 | PASS | PASS | SKIPPED | PASS |
+--------------+--------------+----------------+---------------+---------------+
| CentOS 8 | PASS | PASS | PASS | SKIPPED |
+--------------+--------------+----------------+---------------+---------------+
Ubuntu 18.04
Kernel: 4.15.0-generic
GCC: 7.4
FreeBSD 11.2
Kernel: 11.2
GCC: 8.3
CentOS 8
Kernel: 4.18.0.el8_0
GCC: 8.2
https://lab.dpdk.org/results/dashboard/tarballs/7210/
UNH-IOL DPDK Performance Test Lab
To manage your email subscriptions visit:
https://lab.dpdk.org/results/dashboard/preferences/subscriptions/
More information about the test-report
mailing list