[dpdk-test-report] |SUCCESS| pw63187-63191 [PATCH] [v2, 1/5] event/octeontx2: fix TIM HW race condition
dpdklab at iol.unh.edu
dpdklab at iol.unh.edu
Thu Nov 21 14:46:39 CET 2019
Test-Label: iol-compilation
Test-Status: SUCCESS
http://dpdk.org/patch/63187
_Compile Testing PASS_
Submitter: Pavan Nikhilesh Bhagavatula <pbhagavatula at marvell.com>
Date: Thursday, November 21 2019 07:13:14
DPDK git baseline: Repo:dpdk
Branch: master
CommitID:e5d0ba08703099c12e4bb2eac650cbb047df1a13
63187-63191 --> compile testing pass
Test environment and result as below:
+--------------+--------------+----------------+---------------+---------------+
| Environment | dpdk_compile | dpdk_compile_s | dpdk_meson_co | dpdk_compile_ |
| | | pdk | mpile | ovs |
+==============+==============+================+===============+===============+
| Ubuntu 18.04 | PASS | PASS | PASS | PASS |
+--------------+--------------+----------------+---------------+---------------+
| FreeBSD 11.2 | PASS | PASS | PASS | SKIPPED |
+--------------+--------------+----------------+---------------+---------------+
| CentOS 8 | PASS | SKIPPED | PASS | PASS |
+--------------+--------------+----------------+---------------+---------------+
Ubuntu 18.04
Kernel: 4.15.0-generic
GCC: 7.4
FreeBSD 11.2
Kernel: 11.2
GCC: 8.3
CentOS 8
Kernel: 4.18.0.el8_0
GCC: 8.2
https://lab.dpdk.org/results/dashboard/patchsets/8641/
UNH-IOL DPDK Performance Test Lab
To manage your email subscriptions visit:
https://lab.dpdk.org/results/dashboard/preferences/subscriptions/
More information about the test-report
mailing list