[dpdk-test-report] |SUCCESS| [GIT MASTER] e5d0ba08703099c12e4bb2eac650cbb047df1a13
dpdklab at iol.unh.edu
dpdklab at iol.unh.edu
Thu Nov 21 17:50:24 CET 2019
_Compile Testing PASS_
Branch: dpdk-next-crypto
e5d0ba08703099c12e4bb2eac650cbb047df1a13 --> compile testing pass
Test environment and result as below:
+--------------+--------------+----------------+---------------+---------------+
| Environment | dpdk_compile | dpdk_compile_o | dpdk_meson_co | dpdk_compile_ |
| | | vs | mpile | spdk |
+==============+==============+================+===============+===============+
| FreeBSD 11.2 | PASS | SKIPPED | PASS | PASS |
+--------------+--------------+----------------+---------------+---------------+
| Ubuntu 18.04 | PASS | PASS | PASS | PASS |
+--------------+--------------+----------------+---------------+---------------+
| CentOS 8 | PASS | PASS | PASS | SKIPPED |
+--------------+--------------+----------------+---------------+---------------+
FreeBSD 11.2
Kernel: 11.2
GCC: 8.3
Ubuntu 18.04
Kernel: 4.15.0-generic
GCC: 7.4
CentOS 8
Kernel: 4.18.0.el8_0
GCC: 8.2
https://lab.dpdk.org/results/dashboard/tarballs/7225/
UNH-IOL DPDK Performance Test Lab
To manage your email subscriptions visit:
https://lab.dpdk.org/results/dashboard/preferences/subscriptions/
More information about the test-report
mailing list