[dpdk-test-report] |SUCCESS| [GIT MASTER] 728db7afaaa0b5626fe3298e67677dc247c7fc14

dpdklab at iol.unh.edu dpdklab at iol.unh.edu
Fri Nov 22 21:33:43 CET 2019


_Compile Testing PASS_

Branch: dpdk-next-net-brcm

728db7afaaa0b5626fe3298e67677dc247c7fc14 --> compile testing pass

Test environment and result as below:

+--------------+----------------+--------------+---------------+---------------+
| Environment  | dpdk_compile_o | dpdk_compile | dpdk_compile_ | dpdk_meson_co |
|              |       vs       |              |     spdk      |     mpile     |
+==============+================+==============+===============+===============+
| Ubuntu 18.04 | PASS           | PASS         | PASS          | PASS          |
+--------------+----------------+--------------+---------------+---------------+
| CentOS 8     | PASS           | PASS         | SKIPPED       | PASS          |
+--------------+----------------+--------------+---------------+---------------+
| FreeBSD 11.2 | SKIPPED        | PASS         | PASS          | PASS          |
+--------------+----------------+--------------+---------------+---------------+

Ubuntu 18.04
	Kernel: 4.15.0-generic
	GCC: 7.4

CentOS 8
	Kernel: 4.18.0.el8_0
	GCC: 8.2

FreeBSD 11.2
	Kernel: 11.2
	GCC: 8.3

https://lab.dpdk.org/results/dashboard/tarballs/7248/

UNH-IOL DPDK Performance Test Lab

To manage your email subscriptions visit: 
https://lab.dpdk.org/results/dashboard/preferences/subscriptions/


More information about the test-report mailing list