[dpdk-test-report] |SUCCESS| pw63258 [PATCH] net/mlx5: support more than 16 modify actions

dpdklab at iol.unh.edu dpdklab at iol.unh.edu
Sat Nov 23 09:00:48 CET 2019


Test-Label: iol-compilation
Test-Status: SUCCESS
http://dpdk.org/patch/63258

_Compile Testing PASS_

Submitter: Bing Zhao <bingz at mellanox.com>
Date: Saturday, November 23 2019 07:26:36 
DPDK git baseline: Repo:dpdk
  Branch: master
  CommitID:e5d0ba08703099c12e4bb2eac650cbb047df1a13

63258 --> compile testing pass

Test environment and result as below:

+--------------+----------------+---------------+---------------+--------------+
| Environment  | dpdk_meson_com | dpdk_compile_ | dpdk_compile_ | dpdk_compile |
|              |      pile      |     spdk      |      ovs      |              |
+==============+================+===============+===============+==============+
| Ubuntu 18.04 | PASS           | PASS          | PASS          | PASS         |
+--------------+----------------+---------------+---------------+--------------+
| FreeBSD 11.2 | PASS           | PASS          | SKIPPED       | PASS         |
+--------------+----------------+---------------+---------------+--------------+
| CentOS 8     | PASS           | SKIPPED       | PASS          | PASS         |
+--------------+----------------+---------------+---------------+--------------+

Ubuntu 18.04
	Kernel: 4.15.0-generic
	GCC: 7.4

FreeBSD 11.2
	Kernel: 11.2
	GCC: 8.3

CentOS 8
	Kernel: 4.18.0.el8_0
	GCC: 8.2

https://lab.dpdk.org/results/dashboard/patchsets/8678/

UNH-IOL DPDK Performance Test Lab

To manage your email subscriptions visit: 
https://lab.dpdk.org/results/dashboard/preferences/subscriptions/


More information about the test-report mailing list