[dpdk-test-report] |SUCCESS| [GIT MASTER] 985cfdcd6dbee1d6160e001c280f53bf13aa00b4
dpdklab at iol.unh.edu
dpdklab at iol.unh.edu
Sat Nov 23 13:22:36 CET 2019
_Compile Testing PASS_
Branch: dpdk-next-eventdev
985cfdcd6dbee1d6160e001c280f53bf13aa00b4 --> compile testing pass
Test environment and result as below:
+--------------+----------------+---------------+---------------+--------------+
| Environment | dpdk_compile_s | dpdk_meson_co | dpdk_compile_ | dpdk_compile |
| | pdk | mpile | ovs | |
+==============+================+===============+===============+==============+
| Ubuntu 18.04 | PASS | PASS | PASS | PASS |
+--------------+----------------+---------------+---------------+--------------+
| FreeBSD 11.2 | PASS | PASS | SKIPPED | PASS |
+--------------+----------------+---------------+---------------+--------------+
| CentOS 8 | SKIPPED | PASS | PASS | PASS |
+--------------+----------------+---------------+---------------+--------------+
Ubuntu 18.04
Kernel: 4.15.0-generic
GCC: 7.4
FreeBSD 11.2
Kernel: 11.2
GCC: 8.3
CentOS 8
Kernel: 4.18.0.el8_0
GCC: 8.2
https://lab.dpdk.org/results/dashboard/tarballs/7252/
UNH-IOL DPDK Performance Test Lab
To manage your email subscriptions visit:
https://lab.dpdk.org/results/dashboard/preferences/subscriptions/
More information about the test-report
mailing list