[dpdk-test-report] |SUCCESS| pw63261 [PATCH] [v4] test/rcu: fix build for small number of cores

dpdklab at iol.unh.edu dpdklab at iol.unh.edu
Mon Nov 25 05:00:30 CET 2019


Test-Label: iol-compilation
Test-Status: SUCCESS
http://dpdk.org/patch/63261

_Compile Testing PASS_

Submitter: Gavin Hu <gavin.hu at arm.com>
Date: Monday, November 25 2019 03:36:33 
DPDK git baseline: Repo:dpdk
  Branch: master
  CommitID:e5d0ba08703099c12e4bb2eac650cbb047df1a13

63261 --> compile testing pass

Test environment and result as below:

+--------------+----------------+---------------+--------------+---------------+
| Environment  | dpdk_compile_o | dpdk_meson_co | dpdk_compile | dpdk_compile_ |
|              |       vs       |     mpile     |              |     spdk      |
+==============+================+===============+==============+===============+
| Ubuntu 18.04 | PASS           | PASS          | PASS         | PASS          |
+--------------+----------------+---------------+--------------+---------------+
| CentOS 8     | PASS           | PASS          | PASS         | SKIPPED       |
+--------------+----------------+---------------+--------------+---------------+
| FreeBSD 11.2 | SKIPPED        | PASS          | PASS         | PASS          |
+--------------+----------------+---------------+--------------+---------------+

Ubuntu 18.04
	Kernel: 4.15.0-generic
	GCC: 7.4

CentOS 8
	Kernel: 4.18.0.el8_0
	GCC: 8.2

FreeBSD 11.2
	Kernel: 11.2
	GCC: 8.3

https://lab.dpdk.org/results/dashboard/patchsets/8681/

UNH-IOL DPDK Performance Test Lab

To manage your email subscriptions visit: 
https://lab.dpdk.org/results/dashboard/preferences/subscriptions/


More information about the test-report mailing list