[dpdk-test-report] |SUCCESS| [GIT MASTER] fa8163adc484b2d0b991a704ece33d72f61553a1
dpdklab at iol.unh.edu
dpdklab at iol.unh.edu
Mon Nov 25 20:31:54 CET 2019
_Compile Testing PASS_
Branch: dpdk-next-net
fa8163adc484b2d0b991a704ece33d72f61553a1 --> compile testing pass
Test environment and result as below:
+--------------+----------------+--------------+---------------+---------------+
| Environment | dpdk_compile_o | dpdk_compile | dpdk_meson_co | dpdk_compile_ |
| | vs | | mpile | spdk |
+==============+================+==============+===============+===============+
| Ubuntu 18.04 | PASS | PASS | PASS | PASS |
+--------------+----------------+--------------+---------------+---------------+
| CentOS 8 | PASS | PASS | PASS | SKIPPED |
+--------------+----------------+--------------+---------------+---------------+
| FreeBSD 11.2 | SKIPPED | PASS | PASS | PASS |
+--------------+----------------+--------------+---------------+---------------+
Ubuntu 18.04
Kernel: 4.15.0-generic
GCC: 7.4
CentOS 8
Kernel: 4.18.0.el8_0
GCC: 8.2
FreeBSD 11.2
Kernel: 11.2
GCC: 8.3
https://lab.dpdk.org/results/dashboard/tarballs/7268/
UNH-IOL DPDK Performance Test Lab
To manage your email subscriptions visit:
https://lab.dpdk.org/results/dashboard/preferences/subscriptions/
More information about the test-report
mailing list