[dpdk-test-report] |SUCCESS| [GIT MASTER] 076e2aeed453cead5f521b5e19366d43a70019b6

dpdklab at iol.unh.edu dpdklab at iol.unh.edu
Mon Nov 25 22:59:04 CET 2019


_Compile Testing PASS_

Branch: dpdk-next-net-mrvl

076e2aeed453cead5f521b5e19366d43a70019b6 --> compile testing pass

Test environment and result as below:

+--------------+----------------+---------------+--------------+---------------+
| Environment  | dpdk_meson_com | dpdk_compile_ | dpdk_compile | dpdk_compile_ |
|              |      pile      |     spdk      |              |      ovs      |
+==============+================+===============+==============+===============+
| Ubuntu 18.04 | PASS           | PASS          | PASS         | PASS          |
+--------------+----------------+---------------+--------------+---------------+
| FreeBSD 11.2 | PASS           | PASS          | PASS         | SKIPPED       |
+--------------+----------------+---------------+--------------+---------------+
| CentOS 8     | PASS           | SKIPPED       | PASS         | PASS          |
+--------------+----------------+---------------+--------------+---------------+

Ubuntu 18.04
	Kernel: 4.15.0-generic
	GCC: 7.4

FreeBSD 11.2
	Kernel: 11.2
	GCC: 8.3

CentOS 8
	Kernel: 4.18.0.el8_0
	GCC: 8.2

https://lab.dpdk.org/results/dashboard/tarballs/7269/

UNH-IOL DPDK Performance Test Lab

To manage your email subscriptions visit: 
https://lab.dpdk.org/results/dashboard/preferences/subscriptions/


More information about the test-report mailing list