[dpdk-test-report] |SUCCESS| pw63300 [PATCH] usertools: fix bind failed can not regression

dpdklab at iol.unh.edu dpdklab at iol.unh.edu
Tue Nov 26 23:08:20 CET 2019


Test-Label: iol-compilation
Test-Status: SUCCESS
http://dpdk.org/patch/63300

_Compile Testing PASS_

Submitter: Hui Wei <huiweics at hotmail.com>
Date: Tuesday, November 26 2019 06:49:24 
DPDK git baseline: Repo:dpdk
  Branch: master
  CommitID:39a19ae03d8fe6210f3e7919b29378bd3223621c

63300 --> compile testing pass

Test environment and result as below:

+--------------+------------------+-------------------+--------------+
| Environment  | dpdk_compile_ovs | dpdk_compile_spdk | dpdk_compile |
+==============+==================+===================+==============+
| Ubuntu 18.04 | PASS             | PASS              | PASS         |
+--------------+------------------+-------------------+--------------+
| CentOS 8     | PASS             | SKIPPED           | PASS         |
+--------------+------------------+-------------------+--------------+
| FreeBSD 11.2 | SKIPPED          | PASS              | PASS         |
+--------------+------------------+-------------------+--------------+

Ubuntu 18.04
	Kernel: 4.15.0-generic
	GCC: 7.4

CentOS 8
	Kernel: 4.18.0.el8_0
	GCC: 8.2

FreeBSD 11.2
	Kernel: 11.2
	GCC: 8.3

https://lab.dpdk.org/results/dashboard/patchsets/8706/

UNH-IOL DPDK Performance Test Lab

To manage your email subscriptions visit: 
https://lab.dpdk.org/results/dashboard/preferences/subscriptions/


More information about the test-report mailing list