[dpdk-test-report] |SUCCESS| pw63329 [PATCH] examples/fips_validation: fix incorrect structure used for AES-GCM

dpdklab at iol.unh.edu dpdklab at iol.unh.edu
Wed Nov 27 17:56:51 CET 2019


Test-Label: iol-compilation
Test-Status: SUCCESS
http://dpdk.org/patch/63329

_Compile Testing PASS_

Submitter: Anoob Joseph <anoobj at marvell.com>
Date: Wednesday, November 27 2019 05:00:48 
DPDK git baseline: Repo:dpdk
  Branch: master
  CommitID:ebf9c7b1db2fbc09f87eed4cf8486239786fcad1

63329 --> compile testing pass

Test environment and result as below:

+--------------+-------------------+--------------+------------------+
| Environment  | dpdk_compile_spdk | dpdk_compile | dpdk_compile_ovs |
+==============+===================+==============+==================+
| Ubuntu 18.04 | PASS              | PASS         | PASS             |
+--------------+-------------------+--------------+------------------+
| FreeBSD 11.2 | PASS              | PASS         | SKIPPED          |
+--------------+-------------------+--------------+------------------+
| CentOS 8     | SKIPPED           | PASS         | PASS             |
+--------------+-------------------+--------------+------------------+

Ubuntu 18.04
	Kernel: 4.15.0-generic
	GCC: 7.4

FreeBSD 11.2
	Kernel: 11.2
	GCC: 8.3

CentOS 8
	Kernel: 4.18.0.el8_0
	GCC: 8.2

https://lab.dpdk.org/results/dashboard/patchsets/8731/

UNH-IOL DPDK Performance Test Lab

To manage your email subscriptions visit: 
https://lab.dpdk.org/results/dashboard/preferences/subscriptions/


More information about the test-report mailing list