[dpdk-test-report] |SUCCESS| [GIT MASTER] e511e96d591693f3a5ed516b74770112b9dc2217
dpdklab at iol.unh.edu
dpdklab at iol.unh.edu
Wed Nov 27 20:28:35 CET 2019
_Compile Testing PASS_
Branch: dpdk-next-net
e511e96d591693f3a5ed516b74770112b9dc2217 --> compile testing pass
Test environment and result as below:
+--------------+--------------+-------------------+------------------+
| Environment | dpdk_compile | dpdk_compile_spdk | dpdk_compile_ovs |
+==============+==============+===================+==================+
| Ubuntu 18.04 | PASS | PASS | PASS |
+--------------+--------------+-------------------+------------------+
| FreeBSD 11.2 | PASS | PASS | SKIPPED |
+--------------+--------------+-------------------+------------------+
| CentOS 8 | PASS | SKIPPED | PASS |
+--------------+--------------+-------------------+------------------+
Ubuntu 18.04
Kernel: 4.15.0-generic
GCC: 7.4
FreeBSD 11.2
Kernel: 11.2
GCC: 8.3
CentOS 8
Kernel: 4.18.0.el8_0
GCC: 8.2
https://lab.dpdk.org/results/dashboard/tarballs/7319/
UNH-IOL DPDK Performance Test Lab
To manage your email subscriptions visit:
https://lab.dpdk.org/results/dashboard/preferences/subscriptions/
More information about the test-report
mailing list