[dpdk-test-report] |SUCCESS| pw63362-63367 [PATCH] [v5, 1/6] lib/eal: implement the family of rte bit operation APIs
dpdklab at iol.unh.edu
dpdklab at iol.unh.edu
Thu Nov 28 08:27:31 CET 2019
Test-Label: iol-compilation
Test-Status: SUCCESS
http://dpdk.org/patch/63362
_Compile Testing PASS_
Submitter: Joyce Kong <joyce.kong at arm.com>
Date: Thursday, November 28 2019 06:44:13
DPDK git baseline: Repo:dpdk
Branch: master
CommitID:808b3fce7ed76572b16b699d2845c3e83d9f59e7
63362-63367 --> compile testing pass
Test environment and result as below:
+--------------+--------------+-------------------+------------------+
| Environment | dpdk_compile | dpdk_compile_spdk | dpdk_compile_ovs |
+==============+==============+===================+==================+
| Ubuntu 18.04 | PASS | PASS | PASS |
+--------------+--------------+-------------------+------------------+
| FreeBSD 11.2 | PASS | PASS | SKIPPED |
+--------------+--------------+-------------------+------------------+
| CentOS 8 | PASS | SKIPPED | PASS |
+--------------+--------------+-------------------+------------------+
Ubuntu 18.04
Kernel: 4.15.0-generic
GCC: 7.4
FreeBSD 11.2
Kernel: 11.2
GCC: 8.3
CentOS 8
Kernel: 4.18.0.el8_0
GCC: 8.2
https://lab.dpdk.org/results/dashboard/patchsets/8757/
UNH-IOL DPDK Performance Test Lab
To manage your email subscriptions visit:
https://lab.dpdk.org/results/dashboard/preferences/subscriptions/
More information about the test-report
mailing list