[dpdk-test-report] |SUCCESS| pw63369-63371 [PATCH] [v2, 1/3] config: set the pkgconfig executable
dpdklab at iol.unh.edu
dpdklab at iol.unh.edu
Thu Nov 28 08:57:03 CET 2019
Test-Label: iol-compilation
Test-Status: SUCCESS
http://dpdk.org/patch/63369
_Compile Testing PASS_
Submitter: Ali Alnubani <alialnu at mellanox.com>
Date: Thursday, November 28 2019 07:24:38
DPDK git baseline: Repo:dpdk
Branch: master
CommitID:808b3fce7ed76572b16b699d2845c3e83d9f59e7
63369-63371 --> compile testing pass
Test environment and result as below:
+--------------+--------------+------------------+-------------------+
| Environment | dpdk_compile | dpdk_compile_ovs | dpdk_compile_spdk |
+==============+==============+==================+===================+
| FreeBSD 11.2 | PASS | SKIPPED | PASS |
+--------------+--------------+------------------+-------------------+
| Ubuntu 18.04 | PASS | PASS | PASS |
+--------------+--------------+------------------+-------------------+
| CentOS 8 | PASS | PASS | SKIPPED |
+--------------+--------------+------------------+-------------------+
FreeBSD 11.2
Kernel: 11.2
GCC: 8.3
Ubuntu 18.04
Kernel: 4.15.0-generic
GCC: 7.4
CentOS 8
Kernel: 4.18.0.el8_0
GCC: 8.2
https://lab.dpdk.org/results/dashboard/patchsets/8759/
UNH-IOL DPDK Performance Test Lab
To manage your email subscriptions visit:
https://lab.dpdk.org/results/dashboard/preferences/subscriptions/
More information about the test-report
mailing list