[dpdk-test-report] |SUCCESS| pw63400-63406 [PATCH] [v3, 1/7] build: enable debug info by default in meson builds

dpdklab at iol.unh.edu dpdklab at iol.unh.edu
Fri Nov 29 22:42:08 CET 2019


Test-Label: iol-compilation
Test-Status: SUCCESS
http://dpdk.org/patch/63400

_Compile Testing PASS_

Submitter: Kevin Laatz <kevin.laatz at intel.com>
Date: Friday, November 29 2019 21:08:59 
DPDK git baseline: Repo:dpdk
  Branch: master
  CommitID:7001c8fdb27357c67147c0a13cb3826e48c0f2bf

63400-63406 --> compile testing pass

Test environment and result as below:

+--------------+--------------+-------------------+------------------+
| Environment  | dpdk_compile | dpdk_compile_spdk | dpdk_compile_ovs |
+==============+==============+===================+==================+
| Ubuntu 18.04 | PASS         | PASS              | PASS             |
+--------------+--------------+-------------------+------------------+
| FreeBSD 11.2 | PASS         | PASS              | SKIPPED          |
+--------------+--------------+-------------------+------------------+
| CentOS 8     | PASS         | SKIPPED           | PASS             |
+--------------+--------------+-------------------+------------------+

Ubuntu 18.04
	Kernel: 4.15.0-generic
	GCC: 7.4

FreeBSD 11.2
	Kernel: 11.2
	GCC: 8.3

CentOS 8
	Kernel: 4.18.0.el8_0
	GCC: 8.2

https://lab.dpdk.org/results/dashboard/patchsets/8775/

UNH-IOL DPDK Performance Test Lab

To manage your email subscriptions visit: 
https://lab.dpdk.org/results/dashboard/preferences/subscriptions/


More information about the test-report mailing list